BEGIN:VCALENDAR
VERSION:2.0
PRODID:-//Carquefou Hockey Club - ECPv6.15.20//NONSGML v1.0//EN
CALSCALE:GREGORIAN
METHOD:PUBLISH
X-ORIGINAL-URL:https://carquefouhockeyclub.com
X-WR-CALDESC:Évènements pour Carquefou Hockey Club
REFRESH-INTERVAL;VALUE=DURATION:PT1H
X-Robots-Tag:noindex
X-PUBLISHED-TTL:PT1H
BEGIN:VTIMEZONE
TZID:Europe/Paris
BEGIN:DAYLIGHT
TZOFFSETFROM:+0100
TZOFFSETTO:+0200
TZNAME:CEST
DTSTART:20220327T010000
END:DAYLIGHT
BEGIN:STANDARD
TZOFFSETFROM:+0200
TZOFFSETTO:+0100
TZNAME:CET
DTSTART:20221030T010000
END:STANDARD
BEGIN:DAYLIGHT
TZOFFSETFROM:+0100
TZOFFSETTO:+0200
TZNAME:CEST
DTSTART:20230326T010000
END:DAYLIGHT
BEGIN:STANDARD
TZOFFSETFROM:+0200
TZOFFSETTO:+0100
TZNAME:CET
DTSTART:20231029T010000
END:STANDARD
BEGIN:DAYLIGHT
TZOFFSETFROM:+0100
TZOFFSETTO:+0200
TZNAME:CEST
DTSTART:20240331T010000
END:DAYLIGHT
BEGIN:STANDARD
TZOFFSETFROM:+0200
TZOFFSETTO:+0100
TZNAME:CET
DTSTART:20241027T010000
END:STANDARD
END:VTIMEZONE
BEGIN:VEVENT
DTSTART;TZID=Europe/Paris:20231118T093000
DTEND;TZID=Europe/Paris:20231118T123000
DTSTAMP:20260422T023338
CREATED:20230817T144318Z
LAST-MODIFIED:20231117T171550Z
UID:618-1700299800-1700310600@carquefouhockeyclub.com
SUMMARY:Plateau U12
DESCRIPTION:◾️ Poule développement : \n9h30 – T1 | Carquefou HC 2 🔴⚫️ / Carquefou HC filles 1 🔴⚫️ \n10h30 – T1 | Saint-Sébastien HC 2 🟠 / HC Savenay-LB U12 🟣 \n10h30 – T2 | HC Nantes 3 🟡 / Carquefou HC filles 2 🔴⚫️ \n◾️ Challenge U14-12 : \n9h30 – T2 | Nantes  1 🟡 / Carquefou HC 1 🔴⚫️ \n11h30 – T1 | HC Nantes 1 🟡 / HC Nantes 2 🟡 \n11h30 – T2 | HC Savenay-LB U14 🟣 / Sautron HC 🔵⚪️ \n\nT1 : Terrain 1 \nT2 : Terrain 2
URL:https://carquefouhockeyclub.com/agenda/plateau-u12-3/
LOCATION:Nantes – La Colinière\, HCN\, Nantes
CATEGORIES:Plateau,U12
END:VEVENT
END:VCALENDAR