BEGIN:VCALENDAR
VERSION:2.0
PRODID:-//Carquefou Hockey Club - ECPv6.15.20//NONSGML v1.0//EN
CALSCALE:GREGORIAN
METHOD:PUBLISH
X-WR-CALNAME:Carquefou Hockey Club
X-ORIGINAL-URL:https://carquefouhockeyclub.com
X-WR-CALDESC:Évènements pour Carquefou Hockey Club
REFRESH-INTERVAL;VALUE=DURATION:PT1H
X-Robots-Tag:noindex
X-PUBLISHED-TTL:PT1H
BEGIN:VTIMEZONE
TZID:Europe/Paris
BEGIN:DAYLIGHT
TZOFFSETFROM:+0100
TZOFFSETTO:+0200
TZNAME:CEST
DTSTART:20230326T010000
END:DAYLIGHT
BEGIN:STANDARD
TZOFFSETFROM:+0200
TZOFFSETTO:+0100
TZNAME:CET
DTSTART:20231029T010000
END:STANDARD
BEGIN:DAYLIGHT
TZOFFSETFROM:+0100
TZOFFSETTO:+0200
TZNAME:CEST
DTSTART:20240331T010000
END:DAYLIGHT
BEGIN:STANDARD
TZOFFSETFROM:+0200
TZOFFSETTO:+0100
TZNAME:CET
DTSTART:20241027T010000
END:STANDARD
BEGIN:DAYLIGHT
TZOFFSETFROM:+0100
TZOFFSETTO:+0200
TZNAME:CEST
DTSTART:20250330T010000
END:DAYLIGHT
BEGIN:STANDARD
TZOFFSETFROM:+0200
TZOFFSETTO:+0100
TZNAME:CET
DTSTART:20251026T010000
END:STANDARD
END:VTIMEZONE
BEGIN:VEVENT
DTSTART;TZID=Europe/Paris:20240120T093000
DTEND;TZID=Europe/Paris:20240120T123000
DTSTAMP:20260421T223038
CREATED:20231123T180301Z
LAST-MODIFIED:20231123T180301Z
UID:1502-1705743000-1705753800@carquefouhockeyclub.com
SUMMARY:Plateau 2 salle U8-U10
DESCRIPTION:
URL:https://carquefouhockeyclub.com/agenda/plateau-2-salle-u8-u10/
LOCATION:CHC – Salle Alella\, Salle Alella\, Carquefou
CATEGORIES:Plateau,U10,U8
END:VEVENT
END:VCALENDAR